BEGIN:VCALENDAR
VERSION:2.0
PRODID:TERKANE.COM
CALSCALE:GREGORIAN
METHOD:PUBLISH
BEGIN:VEVENT
SUMMARY:Montage & mixage avec Fairlight de Davinci Resolve
UID:course-1237-session-1101@terkane.com
SEQUENCE:0
STATUS:CONFIRMED
TRANSP:TRANSPARENT
DTSTART:20261005
DTEND:20261010
DTSTAMP:20210324T084921
CATEGORIES:EDUCATION
LOCATION:TERKANE, 449 Boulevard Saint-Nicolas, 83700 Saint-Raphaël
GEO:43.422518;6.780949
DESCRIPTION:https://www.terkane.com/catalog/montage-mixage-avec-fairlight-de-davinci-resolve
URL:https://www.terkane.com/catalog/montage-mixage-avec-fairlight-de-davinci-resolve
END:VEVENT
END:VCALENDAR